BEGIN:VCALENDAR
VERSION:2.0
PRODID:-//Λογιστικό Γραφείο Βόλος - ECPv6.15.20//NONSGML v1.0//EN
CALSCALE:GREGORIAN
METHOD:PUBLISH
X-WR-CALNAME:Λογιστικό Γραφείο Βόλος
X-ORIGINAL-URL:https://dimit.gr
X-WR-CALDESC:Events for Λογιστικό Γραφείο Βόλος
REFRESH-INTERVAL;VALUE=DURATION:PT1H
X-Robots-Tag:noindex
X-PUBLISHED-TTL:PT1H
BEGIN:VTIMEZONE
TZID:Europe/Moscow
BEGIN:STANDARD
TZOFFSETFROM:+0300
TZOFFSETTO:+0300
TZNAME:MSK
DTSTART:20250101T000000
END:STANDARD
END:VTIMEZONE
BEGIN:VEVENT
DTSTART;VALUE=DATE:20260316
DTEND;VALUE=DATE:20260716
DTSTAMP:20260420T051138
CREATED:20260310T103446Z
LAST-MODIFIED:20260310T103446Z
UID:12913-1773619200-1784159999@dimit.gr
SUMMARY:Φορολογικές Δηλώσεις 2026
DESCRIPTION:Φορολογικές Δηλώσεις 2026\n \n  \n  \n  \n  \nΦορολογικές Δηλώσεις 2026 \nΈναρξη υποβολής δηλώσεων στις 16/03/2026. \nΥποβολή μέχρι 30/04/2026 => 4% έκπτωση φόρου \nΥποβολή μέχρι 15/06/2026 => 3% έκπτωση φόρου \nΥποβολή μέχρι 15/07/2026 => 2% έκπτωση φόρου \n  \nΛογιστικό γραφείο ΔΗΜΗΤΡΙΟΥ τηλ.2421052666
URL:https://dimit.gr/event/%cf%86%ce%bf%cf%81%ce%bf%ce%bb%ce%bf%ce%b3%ce%b9%ce%ba%ce%ad%cf%82-%ce%b4%ce%b7%ce%bb%cf%8e%cf%83%ce%b5%ce%b9%cf%82-2026/
LOCATION:Λογιστικό γραφείο Δημητρίου Δημήτρη\, Αχιλλούλου 198\, Βόλος\, Μαγνησία\, 38221\, Greece
END:VEVENT
END:VCALENDAR